BEGIN:VCALENDAR
VERSION:2.0
PRODID:-//Bright Start Therapies - ECPv5.16.1.1//NONSGML v1.0//EN
CALSCALE:GREGORIAN
METHOD:PUBLISH
X-ORIGINAL-URL:https://brightstarttherapies.com
X-WR-CALDESC:Events for Bright Start Therapies
REFRESH-INTERVAL;VALUE=DURATION:PT1H
X-Robots-Tag:noindex
X-PUBLISHED-TTL:PT1H
BEGIN:VTIMEZONE
TZID:UTC
BEGIN:STANDARD
TZOFFSETFROM:+0000
TZOFFSETTO:+0000
TZNAME:UTC
DTSTART:20230101T000000
END:STANDARD
END:VTIMEZONE
BEGIN:VEVENT
DTSTART;TZID=UTC:20230110T153000
DTEND;TZID=UTC:20230110T163000
DTSTAMP:20260420T111447
CREATED:20230109T174416Z
LAST-MODIFIED:20230109T174416Z
UID:28907-1673364600-1673368200@brightstarttherapies.com
SUMMARY:STEAM for Kids
DESCRIPTION:Details \nTUESDAYS\, 3:30 – 4:30 PM \nColonial Heights Library\n4799 Stockton Blvd\, Sacramento\, CA \n  \nJoin the Colonial Heights Library for STEAM activities for kids. We’ll explore a different STEAM (Science\, Technology\, Engineering\, Art\, and Math) activity each week. Designed for kids ages 8-12
URL:https://brightstarttherapies.com/event/steam-for-kids/
LOCATION:Colonial Heights Library 4799 Stockton Blvd\, Sacramento\, CA\, Colonial Heights Library 4799 Stockton Blvd\, Sacramento\, CA\, Sacramento\, 4799\, Canada
END:VEVENT
END:VCALENDAR