BEGIN:VCALENDAR
VERSION:2.0
PRODID:-//Bright Start Therapies - ECPv5.16.1.1//NONSGML v1.0//EN
CALSCALE:GREGORIAN
METHOD:PUBLISH
X-ORIGINAL-URL:https://brightstarttherapies.com
X-WR-CALDESC:Events for Bright Start Therapies
REFRESH-INTERVAL;VALUE=DURATION:PT1H
X-Robots-Tag:noindex
X-PUBLISHED-TTL:PT1H
BEGIN:VTIMEZONE
TZID:UTC
BEGIN:STANDARD
TZOFFSETFROM:+0000
TZOFFSETTO:+0000
TZNAME:UTC
DTSTART:20230101T000000
END:STANDARD
END:VTIMEZONE
BEGIN:VEVENT
DTSTART;TZID=UTC:20230113T103000
DTEND;TZID=UTC:20240113T133000
DTSTAMP:20260420T095117
CREATED:20230109T175403Z
LAST-MODIFIED:20230111T131739Z
UID:28924-1673605800-1705152600@brightstarttherapies.com
SUMMARY:ZUMBA Kids Night Out!
DESCRIPTION:Details \nFri\, Jan 13\, 10:30 AM – 1:30 PM \nWest Sacramento Community Center\n1075 W Capitol Ave\, West Sacramento\, CA \n 
URL:https://brightstarttherapies.com/event/zumba-kids-night-out/
LOCATION:West Sacramento Community Center 1075 W Capitol Ave\, West Sacramento\, CA\, West Sacramento Community Center 1075 W Capitol Ave\, West Sacramento\, CA\, Sacramento\, 1075\, Canada
END:VEVENT
BEGIN:VEVENT
DTSTART;TZID=UTC:20230211T110000
DTEND;TZID=UTC:20230211T110000
DTSTAMP:20260420T095117
CREATED:20230109T175825Z
LAST-MODIFIED:20230109T175825Z
UID:28931-1676113200-1676113200@brightstarttherapies.com
SUMMARY:Black History Month Art Show 2023
DESCRIPTION:Details \nSun\, Feb 19\, 11:00 AM \nOld Sugar Mill • Clarksburg\, CA \nFees: Free \n 
URL:https://brightstarttherapies.com/event/black-history-month-art-show-2023/
LOCATION:Old Sugar Mill • Clarksburg\, CA\, Old Sugar Mill • Clarksburg\, CA\, Clarksburg\, Canada
END:VEVENT
END:VCALENDAR