BEGIN:VCALENDAR
VERSION:2.0
PRODID:-//Bright Start Therapies - ECPv5.16.1.1//NONSGML v1.0//EN
CALSCALE:GREGORIAN
METHOD:PUBLISH
X-WR-CALNAME:Bright Start Therapies
X-ORIGINAL-URL:https://brightstarttherapies.com
X-WR-CALDESC:Events for Bright Start Therapies
REFRESH-INTERVAL;VALUE=DURATION:PT1H
X-Robots-Tag:noindex
X-PUBLISHED-TTL:PT1H
BEGIN:VTIMEZONE
TZID:UTC
BEGIN:STANDARD
TZOFFSETFROM:+0000
TZOFFSETTO:+0000
TZNAME:UTC
DTSTART:20230101T000000
END:STANDARD
END:VTIMEZONE
BEGIN:VEVENT
DTSTART;TZID=UTC:20230113T103000
DTEND;TZID=UTC:20240113T133000
DTSTAMP:20260419T190223
CREATED:20230109T175403Z
LAST-MODIFIED:20230111T131739Z
UID:28924-1673605800-1705152600@brightstarttherapies.com
SUMMARY:ZUMBA Kids Night Out!
DESCRIPTION:Details \nFri\, Jan 13\, 10:30 AM – 1:30 PM \nWest Sacramento Community Center\n1075 W Capitol Ave\, West Sacramento\, CA \n 
URL:https://brightstarttherapies.com/event/zumba-kids-night-out/
LOCATION:West Sacramento Community Center 1075 W Capitol Ave\, West Sacramento\, CA\, West Sacramento Community Center 1075 W Capitol Ave\, West Sacramento\, CA\, Sacramento\, 1075\, Canada
END:VEVENT
BEGIN:VEVENT
DTSTART;TZID=UTC:20230501T100000
DTEND;TZID=UTC:20231031T190000
DTSTAMP:20260419T190223
CREATED:20220928T143909Z
LAST-MODIFIED:20220928T143909Z
UID:28339-1682935200-1698778800@brightstarttherapies.com
SUMMARY:Spray Grounds in Rocklin FREE FUN
DESCRIPTION:Details: The 3 splash pads in Rocklin are located at Whitney Park\, Kathy Lund Park\, and Johnson-Springview Park. All 3 operate daily from 10 a.m. to 7 p.m. starting in May through October.
URL:https://brightstarttherapies.com/event/spray-grounds-in-rocklin-free-fun/
LOCATION:3 Rocklin ParksRocklin CA 95677\, 3 Rocklin ParksRocklin CA 95677\, CA\, United States
ATTACH;FMTTYPE=image/png:https://brightstarttherapies.com/wp-content/uploads/2022/08/event-11.png
END:VEVENT
BEGIN:VEVENT
DTSTART;TZID=UTC:20231001T090000
DTEND;TZID=UTC:20231001T120000
DTSTAMP:20260419T190223
CREATED:20220928T132416Z
LAST-MODIFIED:20221216T142957Z
UID:28294-1696150800-1696161600@brightstarttherapies.com
SUMMARY:Kids Workshop at Home Depot
DESCRIPTION:Details: Time to pull out your apron! Kids Workshops are back in-store next month  Join us on the 1st Saturday of every month from 9am-12pm for this fun\, free event. No pre-registration is needed.
URL:https://brightstarttherapies.com/event/kids-workshop-at-home-depot/
LOCATION:Home Depot – Roseville\, Lincoln\, Auburn and all local CA 95678\, Home Depot - Roseville\, Lincoln\, Auburn and all local CA 95678\, CA\, CA\, United States
ATTACH;FMTTYPE=image/png:https://brightstarttherapies.com/wp-content/uploads/2022/08/event-5.png
END:VEVENT
BEGIN:VEVENT
DTSTART;TZID=UTC:20231001T090000
DTEND;TZID=UTC:20231001T160000
DTSTAMP:20260419T190223
CREATED:20220928T140401Z
LAST-MODIFIED:20221216T142936Z
UID:28313-1696150800-1696176000@brightstarttherapies.com
SUMMARY:Maidu Museum's Open Hours
DESCRIPTION:Details: Maidu Museum will be open on Wednesdays\, Thursdays\, and Fridays in additions to normal Saturdays. The Historic Site Trail will available for free during open hours. Museum visits will still require admission fees. \nWednesday evenings will feature “Trail Talks” from 6pm to 6:30pm. Stop by for a causal conversation on the Historic Site Trail with our staff about a new topic every Wednesday.
URL:https://brightstarttherapies.com/event/maidu-museums-open-hours-copy-copy-copy/
LOCATION:Maidu Museum & Historic Site 1970 Johnson Ranch Dr.\, Roseville CA 95661\, Maidu Museum & Historic Site 1970 Johnson Ranch Dr.\, Roseville CA 95661\, Roseville CA 95661\, CA\, United States
ATTACH;FMTTYPE=image/png:https://brightstarttherapies.com/wp-content/uploads/2022/08/event-7.png
END:VEVENT
BEGIN:VEVENT
DTSTART;TZID=UTC:20231001T100000
DTEND;TZID=UTC:20231001T170000
DTSTAMP:20260419T190223
CREATED:20220928T140927Z
LAST-MODIFIED:20221216T142911Z
UID:28320-1696154400-1696179600@brightstarttherapies.com
SUMMARY:Quarry Park Adventures Open Times
DESCRIPTION:Details: Quarry Park Adventures is a one-of-a-kind experience that is an incredible way to connect (or reconnect!) with friends\, co-workers\, or family right in the heart of Rocklin at one of the most unique and thrilling outdoor adventure destinations in the country.
URL:https://brightstarttherapies.com/event/quarry-park-adventures-open-times-2/
LOCATION:Quarry Park Adventures 5373 Pacific StRocklin CA 95677\, Quarry Park Adventures 5373 Pacific StRocklin CA 95677\, Pacific StRocklin CA 95677\, CA\, United States
ATTACH;FMTTYPE=image/png:https://brightstarttherapies.com/wp-content/uploads/2022/08/event-8.png
END:VEVENT
BEGIN:VEVENT
DTSTART;TZID=UTC:20231001T110000
DTEND;TZID=UTC:20231001T140000
DTSTAMP:20260419T190223
CREATED:20220928T123829Z
LAST-MODIFIED:20221216T142851Z
UID:28290-1696158000-1696168800@brightstarttherapies.com
SUMMARY:Blue Line Arts
DESCRIPTION:Details: Drop-in arts and crafts activities are a great way for children to explore their creativity and dabble in a variety of different art mediums!  Bring your family into the gallery on the First Saturday of each month to enjoy an art project as a family! All materials\, supplies and instruction will be provided. \nParents and caregivers\, let us handle the set-up and clean-up so that you and your child can unleash your inner artist and self-expression!  A Blue Line Arts team member will be on site to walk you through the steps of creating the project.  Each month\, a new project and art activity will be featured and inspired by the themes currently on display in the gallery. \nCost: Participation is FREE for Blue Line Arts Family Members!
URL:https://brightstarttherapies.com/event/blue-line-arts/
LOCATION:405 Vernon Street #100\, Roseville\, CA 95678\, 5140 Commons Dr. Rocklin CA 95677
ATTACH;FMTTYPE=image/png:https://brightstarttherapies.com/wp-content/uploads/2022/09/bluelinearts.png
END:VEVENT
BEGIN:VEVENT
DTSTART;TZID=UTC:20231001T120000
DTEND;TZID=UTC:20231002T160000
DTSTAMP:20260419T190223
CREATED:20220928T122552Z
LAST-MODIFIED:20221216T142828Z
UID:28283-1696161600-1696262400@brightstarttherapies.com
SUMMARY:Hagan Park Petting Farm
DESCRIPTION:Details: The Hagan Community Barn is dedicated to sharing farm animals with our community and teaching local youth about farm-to-fork principles.
URL:https://brightstarttherapies.com/event/hagan-park-petting-farm/
LOCATION:Hagan Community Park\, 2197 Chase Dr.\, Rancho Cordova\, Hagan Community Park\, 2197 Chase Dr.\, Rancho Cordova\, Rancho Cordova
ATTACH;FMTTYPE=image/png:https://brightstarttherapies.com/wp-content/uploads/2022/02/event-4.png
END:VEVENT
END:VCALENDAR