BEGIN:VCALENDAR
VERSION:2.0
PRODID:-//Bright Start Therapies - ECPv5.16.1.1//NONSGML v1.0//EN
CALSCALE:GREGORIAN
METHOD:PUBLISH
X-ORIGINAL-URL:https://brightstarttherapies.com
X-WR-CALDESC:Events for Bright Start Therapies
REFRESH-INTERVAL;VALUE=DURATION:PT1H
X-Robots-Tag:noindex
X-PUBLISHED-TTL:PT1H
BEGIN:VTIMEZONE
TZID:UTC
BEGIN:STANDARD
TZOFFSETFROM:+0000
TZOFFSETTO:+0000
TZNAME:UTC
DTSTART:20230101T000000
END:STANDARD
END:VTIMEZONE
BEGIN:VEVENT
DTSTART;TZID=UTC:20230115T080000
DTEND;TZID=UTC:20230115T080000
DTSTAMP:20260421T033814
CREATED:20230109T170138Z
LAST-MODIFIED:20230109T172900Z
UID:28901-1673769600-1673769600@brightstarttherapies.com
SUMMARY:FREE Sunday Movie Matinees at the Guild
DESCRIPTION:The entire family is invited on the 1st Sunday of each month to attend Free Movie Matinee’s at the Guild Theater! \nWhen and where \nLocation: The Guild Theater 2828 35th Street Sacramento\, CA 95817
URL:https://brightstarttherapies.com/event/free-sunday-movie-matinees-at-the-guild/
LOCATION:2828 35th Street Sacramento\, CA 95817\, 2828 35th Street Sacramento\, CA 95817\, Sacramento\, 2828\, Canada
CATEGORIES:Outdoor
END:VEVENT
END:VCALENDAR