BEGIN:VCALENDAR
VERSION:2.0
PRODID:-//Bright Start Therapies - ECPv5.16.1.1//NONSGML v1.0//EN
CALSCALE:GREGORIAN
METHOD:PUBLISH
X-WR-CALNAME:Bright Start Therapies
X-ORIGINAL-URL:https://brightstarttherapies.com
X-WR-CALDESC:Events for Bright Start Therapies
REFRESH-INTERVAL;VALUE=DURATION:PT1H
X-Robots-Tag:noindex
X-PUBLISHED-TTL:PT1H
BEGIN:VTIMEZONE
TZID:UTC
BEGIN:STANDARD
TZOFFSETFROM:+0000
TZOFFSETTO:+0000
TZNAME:UTC
DTSTART:20230101T000000
END:STANDARD
END:VTIMEZONE
BEGIN:VEVENT
DTSTART;TZID=UTC:20230228T100000
DTEND;TZID=UTC:20230228T110000
DTSTAMP:20260422T234253
CREATED:20230109T182305Z
LAST-MODIFIED:20230109T182305Z
UID:28962-1677578400-1677582000@brightstarttherapies.com
SUMMARY:Baby Storytime
DESCRIPTION:Bond with your baby and make new friends! Baby Storytime is designed to encourage early learning through shared reading\, songs\, rhymes and movement. Recommended for birth through 24 months \nDetails \nTue\, Feb 28\, 10 – 11 AM \nSylvan Oaks Library\n6700 Auburn Blvd\, Citrus Heights\, CA
URL:https://brightstarttherapies.com/event/baby-storytime/
LOCATION:Sylvan Oaks Library 6700 Auburn Blvd\, Citrus Heights\, CA\, Sylvan Oaks Library 6700 Auburn Blvd\, Citrus Heights\, CA\, Citrus Heights\, 6700\, Canada
CATEGORIES:Toddlers
END:VEVENT
END:VCALENDAR