BEGIN:VCALENDAR
VERSION:2.0
PRODID:-//Bright Start Therapies - ECPv5.16.1.1//NONSGML v1.0//EN
CALSCALE:GREGORIAN
METHOD:PUBLISH
X-WR-CALNAME:Bright Start Therapies
X-ORIGINAL-URL:https://brightstarttherapies.com
X-WR-CALDESC:Events for Bright Start Therapies
REFRESH-INTERVAL;VALUE=DURATION:PT1H
X-Robots-Tag:noindex
X-PUBLISHED-TTL:PT1H
BEGIN:VTIMEZONE
TZID:UTC
BEGIN:STANDARD
TZOFFSETFROM:+0000
TZOFFSETTO:+0000
TZNAME:UTC
DTSTART:20230101T000000
END:STANDARD
END:VTIMEZONE
BEGIN:VEVENT
DTSTART;TZID=UTC:20230113T103000
DTEND;TZID=UTC:20240113T133000
DTSTAMP:20260419T210552
CREATED:20230109T175403Z
LAST-MODIFIED:20230111T131739Z
UID:28924-1673605800-1705152600@brightstarttherapies.com
SUMMARY:ZUMBA Kids Night Out!
DESCRIPTION:Details \nFri\, Jan 13\, 10:30 AM – 1:30 PM \nWest Sacramento Community Center\n1075 W Capitol Ave\, West Sacramento\, CA \n 
URL:https://brightstarttherapies.com/event/zumba-kids-night-out/
LOCATION:West Sacramento Community Center 1075 W Capitol Ave\, West Sacramento\, CA\, West Sacramento Community Center 1075 W Capitol Ave\, West Sacramento\, CA\, Sacramento\, 1075\, Canada
END:VEVENT
BEGIN:VEVENT
DTSTART;TZID=UTC:20230501T100000
DTEND;TZID=UTC:20231031T190000
DTSTAMP:20260419T210552
CREATED:20220928T143909Z
LAST-MODIFIED:20220928T143909Z
UID:28339-1682935200-1698778800@brightstarttherapies.com
SUMMARY:Spray Grounds in Rocklin FREE FUN
DESCRIPTION:Details: The 3 splash pads in Rocklin are located at Whitney Park\, Kathy Lund Park\, and Johnson-Springview Park. All 3 operate daily from 10 a.m. to 7 p.m. starting in May through October.
URL:https://brightstarttherapies.com/event/spray-grounds-in-rocklin-free-fun/
LOCATION:3 Rocklin ParksRocklin CA 95677\, 3 Rocklin ParksRocklin CA 95677\, CA\, United States
ATTACH;FMTTYPE=image/png:https://brightstarttherapies.com/wp-content/uploads/2022/08/event-11.png
END:VEVENT
BEGIN:VEVENT
DTSTART;TZID=UTC:20230909T093000
DTEND;TZID=UTC:20230909T223000
DTSTAMP:20260419T210552
CREATED:20220928T144654Z
LAST-MODIFIED:20221216T131455Z
UID:28345-1694251800-1694298600@brightstarttherapies.com
SUMMARY:StoryTime at Martha Riley Library
DESCRIPTION:Details: Explore the wonders of reading with books\, puppets\, rhyme and songs! Weekly storytime registrations for all 3 branches open each Monday at noon. Best for ages 5 & under. \nWednesdays at the Riley Library: 9:30 a.m. and 10:30 a.m. \nThursdays at the Maidu Library: 9:30 a.m. and 10:30 a.m. \nFridays at the Downtown Library: 9:30 a.m. and 10:30 a.m.
URL:https://brightstarttherapies.com/event/storytime-at-martha-riley-library-2/
LOCATION:Martha Riley Library Roseville 1501 Pleasant Grove Blvd Roseville CA 95747\, Martha Riley Library Roseville 1501 Pleasant Grove Blvd Roseville CA 95747\, Roseville CA 95747\, CA\, United States
ATTACH;FMTTYPE=image/png:https://brightstarttherapies.com/wp-content/uploads/2022/08/event-12.png
END:VEVENT
BEGIN:VEVENT
DTSTART;TZID=UTC:20230909T093000
DTEND;TZID=UTC:20230909T223000
DTSTAMP:20260419T210552
CREATED:20220928T144759Z
LAST-MODIFIED:20221216T140531Z
UID:28347-1694251800-1694298600@brightstarttherapies.com
SUMMARY:StoryTime at Martha Riley Library
DESCRIPTION:Details: Explore the wonders of reading with books\, puppets\, rhyme and songs! Weekly storytime registrations for all 3 branches open each Monday at noon. Best for ages 5 & under. \nWednesdays at the Riley Library: 9:30 a.m. and 10:30 a.m. \nThursdays at the Maidu Library: 9:30 a.m. and 10:30 a.m. \nFridays at the Downtown Library: 9:30 a.m. and 10:30 a.m.
URL:https://brightstarttherapies.com/event/storytime-at-martha-riley-library-3/
LOCATION:Martha Riley Library Roseville 1501 Pleasant Grove Blvd Roseville CA 95747\, Martha Riley Library Roseville 1501 Pleasant Grove Blvd Roseville CA 95747\, Roseville CA 95747\, CA\, United States
ATTACH;FMTTYPE=image/png:https://brightstarttherapies.com/wp-content/uploads/2022/08/event-12.png
END:VEVENT
BEGIN:VEVENT
DTSTART;TZID=UTC:20230928T070000
DTEND;TZID=UTC:20230928T203000
DTSTAMP:20260419T210552
CREATED:20220928T132917Z
LAST-MODIFIED:20221216T143353Z
UID:28297-1695884400-1695933000@brightstarttherapies.com
SUMMARY:Kloss Park in Elk Grove
DESCRIPTION:Details: This park is built with a variety of challenges in mind. Wide ramps on the playground keep children from feeling too claustrophobic\, many play objects are at wheelchair level (including sand pits!)\, and there are plenty of sensory experiences to touch\, swing\, and spin on! The fire station next to the park is also a hit with the kids!
URL:https://brightstarttherapies.com/event/kloss-park-in-elk-grove/
LOCATION:6501 Laguna Park Dr\, Elk Grove\, CA 95758\, 6501 Laguna Park Dr\, Elk Grove\, CA 95758\, CA\, United States
ATTACH;FMTTYPE=image/png:https://brightstarttherapies.com/wp-content/uploads/2022/02/event-6.png
END:VEVENT
BEGIN:VEVENT
DTSTART;TZID=UTC:20230928T080000
DTEND;TZID=UTC:20230928T170000
DTSTAMP:20260419T210552
CREATED:20220928T121709Z
LAST-MODIFIED:20221216T143333Z
UID:28277-1695888000-1695920400@brightstarttherapies.com
SUMMARY:Art on The Spectrum
DESCRIPTION:Details: Children on the autism spectrum or with other developmental differences are invited to a special morning at the Crocker with their families and caregivers. Drop in before the Museum opens to the public to enjoy a variety of art explorations in an easy-going setting. Social narratives\, noise-canceling headphones\, and less crowds offer space to enjoy art at your own pace.
URL:https://brightstarttherapies.com/event/art-on-the-spectrum/
LOCATION:Crocker Art Museum 216 O St. Sacramento CA 95814\, Crocker Art Museum 216 O St. Sacramento CA 95814
ATTACH;FMTTYPE=image/png:https://brightstarttherapies.com/wp-content/uploads/2022/06/event-1.png
END:VEVENT
BEGIN:VEVENT
DTSTART;TZID=UTC:20230928T080000
DTEND;TZID=UTC:20230928T170000
DTSTAMP:20260419T210552
CREATED:20221216T143317Z
LAST-MODIFIED:20221216T143317Z
UID:28324-1695888000-1695920400@brightstarttherapies.com
SUMMARY:Read to Dogs
DESCRIPTION:Details: Children who respond to animal therapy will love the “Read to Dogs” program through the Sacramento Public Library. Docile dogs are available in a quiet environment for children to meet and sit with for story time
URL:https://brightstarttherapies.com/event/read-to-dogs/
LOCATION:Maidu Library – Roseville\, Carmichael Library\, Belle Cooledge Library\, Elk Grove Library\, Galt Library\, Maidu Library - Roseville\, Carmichael Library\, Belle Cooledge Library\, Elk Grove Library\, Galt Library\, CA\, United States
END:VEVENT
BEGIN:VEVENT
DTSTART;TZID=UTC:20230928T090000
DTEND;TZID=UTC:20230928T180000
DTSTAMP:20260419T210552
CREATED:20220928T120549Z
LAST-MODIFIED:20221216T143256Z
UID:28274-1695891600-1695924000@brightstarttherapies.com
SUMMARY:Art Beast
DESCRIPTION:Details: Upbeat art studio offering drop-in music\, movement/dance & creative art sessions for young children. \nCost: $8/person\, children under 1 years old and one extra adult in family are free
URL:https://brightstarttherapies.com/event/art-beast/
LOCATION:2226 K street\, Sacramento\, CA 95816\, 2226 K street\, Sacramento\, CA 95816\, Sacramento\, CA\, United States
ATTACH;FMTTYPE=image/png:https://brightstarttherapies.com/wp-content/uploads/2022/08/art.png
END:VEVENT
BEGIN:VEVENT
DTSTART;TZID=UTC:20230928T093000
DTEND;TZID=UTC:20230928T223000
DTSTAMP:20260419T210552
CREATED:20220928T144618Z
LAST-MODIFIED:20221216T143238Z
UID:28341-1695893400-1695940200@brightstarttherapies.com
SUMMARY:StoryTime at Martha Riley Library
DESCRIPTION:Details: Explore the wonders of reading with books\, puppets\, rhyme and songs! Weekly storytime registrations for all 3 branches open each Monday at noon. Best for ages 5 & under. \nWednesdays at the Riley Library: 9:30 a.m. and 10:30 a.m. \nThursdays at the Maidu Library: 9:30 a.m. and 10:30 a.m. \nFridays at the Downtown Library: 9:30 a.m. and 10:30 a.m.
URL:https://brightstarttherapies.com/event/storytime-at-martha-riley-library/
LOCATION:Martha Riley Library Roseville 1501 Pleasant Grove Blvd Roseville CA 95747\, Martha Riley Library Roseville 1501 Pleasant Grove Blvd Roseville CA 95747\, Roseville CA 95747\, CA\, United States
ATTACH;FMTTYPE=image/png:https://brightstarttherapies.com/wp-content/uploads/2022/08/event-12.png
END:VEVENT
BEGIN:VEVENT
DTSTART;TZID=UTC:20230928T110000
DTEND;TZID=UTC:20230928T170000
DTSTAMP:20260419T210552
CREATED:20220928T145234Z
LAST-MODIFIED:20221216T143220Z
UID:28349-1695898800-1695920400@brightstarttherapies.com
SUMMARY:Studio Movie Grill
DESCRIPTION:Details: Special Needs Screenings of movies every day at 11am. Their Special Needs Screenings are designed for families raising children with special needs. Special Needs Screenings are shown with the lights up and the volume lowered and children are free to move around\, talk\, or even dance in the aisles during the movie. The sensory friendly screenings are free for children with special needs and their siblings (parental guidance is always suggested). Adult tickets are available at before-noon price. \nCost: Children ages 2-12 – $7-7.50\, Adults – $10-11
URL:https://brightstarttherapies.com/event/studio-movie-grill/
LOCATION:5140 Commons Dr. Rocklin CA 95677\, 5140 Commons Dr. Rocklin CA 95677\, CA 95677\, CA\, United States
ATTACH;FMTTYPE=image/png:https://brightstarttherapies.com/wp-content/uploads/2022/06/event-13.png
END:VEVENT
BEGIN:VEVENT
DTSTART;TZID=UTC:20230928T150000
DTEND;TZID=UTC:20230928T190000
DTSTAMP:20260419T210552
CREATED:20220928T135918Z
LAST-MODIFIED:20221216T143202Z
UID:28301-1695913200-1695927600@brightstarttherapies.com
SUMMARY:Maidu Museum's Open Hours
DESCRIPTION:Details: Maidu Museum will be open on Wednesdays\, Thursdays\, and Fridays in additions to normal Saturdays. The Historic Site Trail will available for free during open hours. Museum visits will still require admission fees. \nWednesday evenings will feature “Trail Talks” from 6pm to 6:30pm. Stop by for a causal conversation on the Historic Site Trail with our staff about a new topic every Wednesday.
URL:https://brightstarttherapies.com/event/maidu-museums-open-hours/
LOCATION:Maidu Museum & Historic Site 1970 Johnson Ranch Dr.\, Roseville CA 95661\, Maidu Museum & Historic Site 1970 Johnson Ranch Dr.\, Roseville CA 95661\, Roseville CA 95661\, CA\, United States
ATTACH;FMTTYPE=image/png:https://brightstarttherapies.com/wp-content/uploads/2022/08/event-7.png
END:VEVENT
BEGIN:VEVENT
DTSTART;TZID=UTC:20230929T090000
DTEND;TZID=UTC:20230929T110000
DTSTAMP:20260419T210552
CREATED:20220928T145503Z
LAST-MODIFIED:20221216T143143Z
UID:28352-1695978000-1695985200@brightstarttherapies.com
SUMMARY:Tot Art in the Park
DESCRIPTION:Details: The theme of the month is Fiber + Collage.  Children will rip\, cut\, glue\, and sculpt this month. Playgroups are a place for children to explore art activities and sensory stations\, while caregivers can connect with their children\, make lasting friendships\, and feel supported on their parenting journey. Playgroups have multiple sensory stations\, an art activity\, and a group activity.  (Some examples of sensory stations are playdough\, water\, slime\, rainbow rice.)  Children are encouraged to explore at their own pace.
URL:https://brightstarttherapies.com/event/tot-art-in-the-park/
LOCATION:4623 T St\, Sacramento\, CA 95819\, 4623 T St\, Sacramento\, CA 95819\, Sacramento\, CA 95819\, CA\, United States
ATTACH;FMTTYPE=image/png:https://brightstarttherapies.com/wp-content/uploads/2022/08/Tot-Art-in-the-Park.png
END:VEVENT
BEGIN:VEVENT
DTSTART;TZID=UTC:20230929T090000
DTEND;TZID=UTC:20230929T140000
DTSTAMP:20260419T210552
CREATED:20220928T135940Z
LAST-MODIFIED:20221216T143123Z
UID:28305-1695978000-1695996000@brightstarttherapies.com
SUMMARY:Maidu Museum's Open Hours
DESCRIPTION:Details: Maidu Museum will be open on Wednesdays\, Thursdays\, and Fridays in additions to normal Saturdays. The Historic Site Trail will available for free during open hours. Museum visits will still require admission fees. \nWednesday evenings will feature “Trail Talks” from 6pm to 6:30pm. Stop by for a causal conversation on the Historic Site Trail with our staff about a new topic every Wednesday.
URL:https://brightstarttherapies.com/event/maidu-museums-open-hours-copy/
LOCATION:Maidu Museum & Historic Site 1970 Johnson Ranch Dr.\, Roseville CA 95661\, Maidu Museum & Historic Site 1970 Johnson Ranch Dr.\, Roseville CA 95661\, Roseville CA 95661\, CA\, United States
ATTACH;FMTTYPE=image/png:https://brightstarttherapies.com/wp-content/uploads/2022/08/event-7.png
END:VEVENT
BEGIN:VEVENT
DTSTART;TZID=UTC:20230929T093000
DTEND;TZID=UTC:20230929T100000
DTSTAMP:20260419T210552
CREATED:20220928T143609Z
LAST-MODIFIED:20221216T143101Z
UID:28335-1695979800-1695981600@brightstarttherapies.com
SUMMARY:Sing Along with Mister Cooper
DESCRIPTION:
URL:https://brightstarttherapies.com/event/sing-along-with-mister-cooper/
LOCATION:Tahoe Park Community Center – 5959 8th ave\, Sacramento\, CA 95820\, Tahoe Park Community Center - 5959 8th ave\, Sacramento\, CA 95820\, Sacramento\, CA 95820\, CA\, United States
END:VEVENT
BEGIN:VEVENT
DTSTART;TZID=UTC:20230930T090000
DTEND;TZID=UTC:20230930T140000
DTSTAMP:20260419T210552
CREATED:20220928T140308Z
LAST-MODIFIED:20221216T143040Z
UID:28310-1696064400-1696082400@brightstarttherapies.com
SUMMARY:Maidu Museum's Open Hours
DESCRIPTION:Details: Maidu Museum will be open on Wednesdays\, Thursdays\, and Fridays in additions to normal Saturdays. The Historic Site Trail will available for free during open hours. Museum visits will still require admission fees. \nWednesday evenings will feature “Trail Talks” from 6pm to 6:30pm. Stop by for a causal conversation on the Historic Site Trail with our staff about a new topic every Wednesday.
URL:https://brightstarttherapies.com/event/maidu-museums-open-hours-copy-copy/
LOCATION:Maidu Museum & Historic Site 1970 Johnson Ranch Dr.\, Roseville CA 95661\, Maidu Museum & Historic Site 1970 Johnson Ranch Dr.\, Roseville CA 95661\, Roseville CA 95661\, CA\, United States
ATTACH;FMTTYPE=image/png:https://brightstarttherapies.com/wp-content/uploads/2022/08/event-7.png
END:VEVENT
BEGIN:VEVENT
DTSTART;TZID=UTC:20230930T100000
DTEND;TZID=UTC:20230930T170000
DTSTAMP:20260419T210552
CREATED:20220928T140818Z
LAST-MODIFIED:20221216T143020Z
UID:28316-1696068000-1696093200@brightstarttherapies.com
SUMMARY:Quarry Park Adventures Open Times
DESCRIPTION:Details: Quarry Park Adventures is a one-of-a-kind experience that is an incredible way to connect (or reconnect!) with friends\, co-workers\, or family right in the heart of Rocklin at one of the most unique and thrilling outdoor adventure destinations in the country.
URL:https://brightstarttherapies.com/event/quarry-park-adventures-open-times/
LOCATION:Quarry Park Adventures 5373 Pacific StRocklin CA 95677\, Quarry Park Adventures 5373 Pacific StRocklin CA 95677\, Pacific StRocklin CA 95677\, CA\, United States
ATTACH;FMTTYPE=image/png:https://brightstarttherapies.com/wp-content/uploads/2022/08/event-8.png
END:VEVENT
END:VCALENDAR